BEGIN:VCALENDAR
VERSION:2.0
PRODID:-//ChamberMaster//Event Calendar 2.0//EN
METHOD:PUBLISH
X-PUBLISHED-TTL:P3D
REFRESH-INTERVAL:P3D
CALSCALE:GREGORIAN
BEGIN:VEVENT
DTSTART:20120911T220000Z
DTEND:20120911T230000Z
X-MICROSOFT-CDO-ALLDAYEVENT:FALSE
SUMMARY:Lasik vision correction seminar
DESCRIPTION:Lasik vision correction seminar. Presented by Dr\,Michael Campbell with the Hilton Head laser eye center. Call Keri today 843-681-8655 for reservations. Refreshments will be served. Attendees will recieve $700.00 off Lasik vision correction.
X-ALT-DESC;FMTTYPE=text/html:Lasik vision correction seminar. Presented by Dr\,Michael Campbell with the Hilton Head laser eye center. Call Keri today 843-681-8655 for reservations. Refreshments will be served. Attendees will recieve $700.00 off Lasik vision correction.
LOCATION:Hilton Head Laser Eye Center\, 10 Hospital center commons suite 100\, Hilton Head island \,SC 29926
UID:e.1212.4595
SEQUENCE:3
DTSTAMP:20260422T174629Z
URL:http://business.beaufortchamber.org/events/details/lasik-vision-correction-seminar-09-11-2012-4595
END:VEVENT

END:VCALENDAR
