BEGIN:VCALENDAR
VERSION:2.0
PRODID:-//ChamberMaster//Event Calendar 2.0//EN
METHOD:PUBLISH
X-PUBLISHED-TTL:P3D
REFRESH-INTERVAL:P3D
CALSCALE:GREGORIAN
BEGIN:VEVENT
DTSTART:20120927T223000Z
DTEND:20120928T003000Z
X-MICROSOFT-CDO-ALLDAYEVENT:FALSE
SUMMARY:Last Call at the Oasis - Lecture and Documentary
DESCRIPTION:Documentary about global water crisis with guest speakers Al Stokes and Dick Stewart\n\nIn Partnership with Port Royal Sound Foundation and Waddell Mariculture Center\n\n\n\nDeveloped\, financed and executive produced by Participant Media\, the company responsible for AN INCONVENIENT TRUTH\, FOOD\, INC. AND WAITING FOR "SUPERMAN"\, LAST CALL AT THE OASIS presents a powerful argument for why the global water crisis will be the central issue facing our world this century. Illuminating the vital role water plays in our lives\, exposing the defects in the current system and depicting communities already struggling with its ill-effects\, the film features activist Erin Brockovich and such distinguished experts as Peter Gleick\, Alex Prud'homme\, Jay Famiglietti and Robert Glennon.
X-ALT-DESC;FMTTYPE=text/html:<strong>Documentary about global water crisis with guest speakers</strong> Al Stokes and Dick Stewart<br />\nIn Partnership with Port Royal Sound Foundation and Waddell Mariculture Center<br />\n<br />\nDeveloped\, financed and executive produced by Participant Media\, the company responsible for AN INCONVENIENT TRUTH\, FOOD\, INC. AND WAITING FOR &ldquo\;SUPERMAN&rdquo\;\, LAST CALL AT THE OASIS presents a powerful argument for why the global water crisis will be the central issue facing our world this century. Illuminating the vital role water plays in our lives\, exposing the defects in the current system and depicting communities already struggling with its ill-effects\, the film features activist Erin Brockovich and such distinguished experts as Peter Gleick\, Alex Prud&rsquo\;homme\, Jay Famiglietti and Robert Glennon.
LOCATION:USCB Center for the Arts 801 Carteret Street\, Beaufort SC 29902
UID:e.1212.4588
SEQUENCE:3
DTSTAMP:20260422T163011Z
URL:http://business.beaufortchamber.org/events/details/last-call-at-the-oasis-lecture-and-documentary-09-27-2012-4588
END:VEVENT

END:VCALENDAR
