BEGIN:VCALENDAR
VERSION:2.0
PRODID:-//ChamberMaster//Event Calendar 2.0//EN
METHOD:PUBLISH
X-PUBLISHED-TTL:P3D
REFRESH-INTERVAL:P3D
CALSCALE:GREGORIAN
BEGIN:VEVENT
DTSTART:20111025T213000Z
DTEND:20111025T230000Z
X-MICROSOFT-CDO-ALLDAYEVENT:FALSE
SUMMARY:Leadership Beaufort Alumni Association Forum
DESCRIPTION:Speakers: \n\nEric Esquivel\, Publisher Spanish-language magazine La Isla\,  Juan Singleton\, former WJWJ news reporter and Jeff  Kidd\, editor with The Beaufort Gazette and The Island Packet\n\n\n\nTopic: \n\nMedia and Racial Bias\n\n\n\nThey will discuss racial bias as it is depicted\, propagated and challenged by the media
X-ALT-DESC;FMTTYPE=text/html:<u>Speakers:&nbsp\;</u><br />\nEric Esquivel\, Publisher Spanish-language magazine La Isla\,&nbsp\; Juan Singleton\, former WJWJ news reporter and&nbsp\;Jeff&nbsp\; Kidd\, editor with The Beaufort Gazette and The Island Packet<br />\n<br />\n<u>Topic</u>:&nbsp\;<br />\nMedia and Racial Bias<br />\n<br />\nThey will discuss racial bias as it is depicted\, propagated and challenged by the media
LOCATION:Holiday Inn of Beaufort 2225 Boundary Street Beaufort\, SC 29902
UID:e.1212.4326
SEQUENCE:3
DTSTAMP:20260423T092505Z
URL:http://business.beaufortchamber.org/events/details/leadership-beaufort-alumni-association-forum-10-25-2011-4326
END:VEVENT

END:VCALENDAR
