BEGIN:VCALENDAR
VERSION:2.0
PRODID:-//ChamberMaster//Event Calendar 2.0//EN
METHOD:PUBLISH
X-PUBLISHED-TTL:P3D
REFRESH-INTERVAL:P3D
CALSCALE:GREGORIAN
BEGIN:VEVENT
DTSTART:20120920T213000Z
DTEND:20120920T230000Z
X-MICROSOFT-CDO-ALLDAYEVENT:FALSE
SUMMARY:Leadership Beaufort Alumni Association - Informational Session
DESCRIPTION:ANTI-AGING DEBATE FOCUS OF LBAA FORUM\n\n\n\nDr. Philip Cusumano will deliver new findings in the anti-aging debate at a Leadership Beaufort Alumni Association forum Sept. 20 at the Holiday Inn Express in Beaufort.\n\n\n\nCusumano's seminar will explore major causes of aging\, nature's best anti-aging medicines\, gene expression and how to control it\, and practical changes anyone can adopt to make major gains in health\, wellness and longevity.\n\n"There is a widespread belief that our genes have the final say in our ability to become and stay healthy\, but it's simply not true\," says Cusumano\, a board-certified internist formerly with the Cleveland Clinic\, who recently joined Beaufort Memorial Lady's Island Internal Medicine. "Three-quarters of our health issues are caused by our own behaviors and lifestyle choices   not our genes."\n\nThe event is sponsored by Beaufort Memorial Hospital.
X-ALT-DESC;FMTTYPE=text/html:<span style="font-size: 11px"><span style="font-family: arial"><span style="color: #888888"><strong>ANTI-AGING DEBATE FOCUS OF LBAA FORUM</strong></span><br />\n<br />\n<span style="color: #888888">Dr. Philip Cusumano will deliver new findings in the anti-aging debate at a Leadership Beaufort Alumni Association forum Sept. 20 at the Holiday Inn Express in Beaufort.<br />\n<br />\nCusumano&rsquo\;s seminar will explore major causes of aging\, nature&rsquo\;s best anti-aging medicines\, gene expression and how to control it\, and practical changes anyone can adopt to make major gains in health\, wellness and longevity.<br />\n&ldquo\;There is a widespread belief that our genes have the final say in our ability to become and stay healthy\, but it&rsquo\;s simply not true\,&rdquo\; says Cusumano\, a board-certified internist formerly with the Cleveland Clinic\, who recently joined Beaufort Memorial Lady&rsquo\;s Island Internal Medicine. &ldquo\;Three-quarters of our health issues are caused by our own behaviors and lifestyle choices &ndash\; not our genes.&rdquo\;<br />\nThe event is sponsored by Beaufort Memorial Hospital.</span></span></span><br />\n<br />\n
LOCATION:Holiday Inn Express\, 2225 Boundary Street\, Beaufort\, SC
UID:e.1212.4591
SEQUENCE:3
DTSTAMP:20260422T163110Z
URL:http://business.beaufortchamber.org/events/details/leadership-beaufort-alumni-association-informational-session-09-20-2012-4591
END:VEVENT

END:VCALENDAR
