BEGIN:VCALENDAR
VERSION:2.0
PRODID:-//ChamberMaster//Event Calendar 2.0//EN
METHOD:PUBLISH
X-PUBLISHED-TTL:P3D
REFRESH-INTERVAL:P3D
CALSCALE:GREGORIAN
BEGIN:VEVENT
DTSTART:20190523T133000Z
DTEND:20190523T150000Z
X-MICROSOFT-CDO-ALLDAYEVENT:FALSE
SUMMARY:Learn to Library: Managing Your Account Online
DESCRIPTION:Learn how to search the catalog\, check due dates\, renew items\, place holds\, save your check-out history and more.  Registration encouraged\, but not required.
X-ALT-DESC;FMTTYPE=text/html:<span style="caret-color: rgb(0\, 0\, 0)\; color: rgb(0\, 0\, 0)\; font-family: Verdana\, Geneva\, sans-serif\; font-size: 14.666666984558105px\;">Learn how to search the catalog\, check due dates\, renew items\, place holds\, save your check-out history and more.&nbsp\; Registration encouraged\, but not required.</span>
LOCATION:Beaufort County Library
UID:e.1212.11573
SEQUENCE:3
DTSTAMP:20260420T102133Z
URL:http://business.beaufortchamber.org/events/details/learn-to-library-managing-your-account-online-11573
END:VEVENT

END:VCALENDAR
