BEGIN:VCALENDAR
VERSION:2.0
PRODID:-//ChamberMaster//Event Calendar 2.0//EN
METHOD:PUBLISH
X-PUBLISHED-TTL:P3D
REFRESH-INTERVAL:P3D
CALSCALE:GREGORIAN
BEGIN:VEVENT
DTSTART;VALUE=DATE:20090717
DTEND;VALUE=DATE:20090718
TRANSP:TRANSPARENT
X-MICROSOFT-CDO-ALLDAYEVENT:TRUE
SUMMARY:Lecture - 'A People of the Land'
DESCRIPTION:Ms. Vinnie Deas-Moore presents a captivating photo-documentary of the spirit and the pride of the Gullah people of the Lowcountry through her poignant images.   York W. Bailey Museum open for tours from 11 - 4:  Adults: $5   Seniors: $4   Youth: $2.
X-ALT-DESC;FMTTYPE=text/html:Ms. Vinnie Deas-Moore presents a captivating photo-documentary of the spirit and the pride of the Gullah people of the Lowcountry through her poignant images.   York W. Bailey Museum open for tours from 11 - 4:  Adults: $5   Seniors: $4   Youth: $2.
LOCATION:
UID:e.1212.3020
SEQUENCE:3
DTSTAMP:20260425T025108Z
URL:http://business.beaufortchamber.org/events/details/lecture-a-people-of-the-land-07-17-2009-3020
END:VEVENT

END:VCALENDAR
