BEGIN:VCALENDAR
VERSION:2.0
PRODID:-//ChamberMaster//Event Calendar 2.0//EN
METHOD:PUBLISH
X-PUBLISHED-TTL:P3D
REFRESH-INTERVAL:P3D
CALSCALE:GREGORIAN
BEGIN:VEVENT
DTSTART:20121127T230000Z
DTEND:20121128T010000Z
X-MICROSOFT-CDO-ALLDAYEVENT:FALSE
SUMMARY:Legislative Reception
DESCRIPTION:
X-ALT-DESC;FMTTYPE=text/html:
LOCATION:
UID:e.1212.4662
SEQUENCE:3
DTSTAMP:20260422T133224Z
URL:http://business.beaufortchamber.org/events/details/legislative-reception-11-27-2012-4662
END:VEVENT

END:VCALENDAR
