BEGIN:VCALENDAR
VERSION:2.0
PRODID:-//ChamberMaster//Event Calendar 2.0//EN
METHOD:PUBLISH
X-PUBLISHED-TTL:P3D
REFRESH-INTERVAL:P3D
CALSCALE:GREGORIAN
BEGIN:VEVENT
DTSTART:20131203T230000Z
DTEND:20131204T010000Z
X-MICROSOFT-CDO-ALLDAYEVENT:FALSE
SUMMARY:Legislative Reception
DESCRIPTION:Annual Legislative Reception to unveil the Beaufort Regional Chamber of Commerce legislative agenda for 2014. Hear from our state and federal Elected Officials regarding their position on the upcoming legislative session agendas.
X-ALT-DESC;FMTTYPE=text/html:Annual Legislative Reception to unveil the Beaufort Regional Chamber of Commerce legislative agenda for 2014. Hear from our state and federal Elected Officials regarding their position on the upcoming legislative session agendas.
LOCATION:Historic Arsenal Grand Hall 713 Craven Street
UID:e.1212.5130
SEQUENCE:3
DTSTAMP:20260421T145419Z
URL:http://business.beaufortchamber.org/events/details/legislative-reception-12-03-2013-5130
END:VEVENT

END:VCALENDAR
