BEGIN:VCALENDAR
VERSION:2.0
PRODID:-//ChamberMaster//Event Calendar 2.0//EN
METHOD:PUBLISH
X-PUBLISHED-TTL:P3D
REFRESH-INTERVAL:P3D
CALSCALE:GREGORIAN
BEGIN:VEVENT
DTSTART;VALUE=DATE:20131031
DTEND;VALUE=DATE:20131101
TRANSP:TRANSPARENT
X-MICROSOFT-CDO-ALLDAYEVENT:TRUE
SUMMARY:Library Trick or Treating for Kindergarten through 5th graders - Hilton Head Library
DESCRIPTION:Event Name:  Library Trick or Treating for kindergarten through 5th graders\n\nShort Description of Event:  Put on your costume and grab a treat bag and drop by the Hilton Head Library for some Halloween fun.  We'll be waiting for you with a surprise or two at the three service desks!\n\nTime and Date of Event:  Thursday\, October 31\, 2013 between 5:00-8:00\n\nLocation of Event:  Hilton Head Library\, 11 Beach City Road\, Hilton Head SC 29926\n\nPrice of Event: Free\n\nContact info: 843-255-6529\, jbascom@bcgov.net\n\nWebsite:    www.beaufortcountylibrary.org
X-ALT-DESC;FMTTYPE=text/html:<span style="font-size: medium\;"><span style="font-family: calibri\;"><strong>Event Name:</strong>&nbsp\; Library Trick or Treating for kindergarten through 5<sup><span style="font-size: small\;">th</span></sup></span> graders</span><br />\n<span style="font-size: medium\;"><span style="font-family: calibri\;"><strong>Short Description of Event:</strong>&nbsp\; Put on your costume and grab a treat bag and drop by the Hilton Head Library for some Halloween fun.&nbsp\; We&rsquo\;ll be waiting for you with a surprise or two at the three service desks!</span></span><br />\n<span style="font-size: medium\;"><span style="font-family: calibri\;"><strong>Time and Date of Event:</strong>&nbsp\; Thursday\, October 31\, 2013 between 5:00-8:00</span></span><br />\n<span style="font-size: medium\;"><span style="font-family: calibri\;"><strong>Location of Event:</strong>&nbsp\; Hilton Head Library\, 11 Beach City Road\, Hilton Head SC 29926</span></span><br />\n<span style="font-size: medium\;"><span style="font-family: calibri\;"><strong>Price of Event: </strong>Free</span></span><br />\n<span style="font-size: medium\;"><span style="font-family: calibri\;"><strong>Contact info:</strong> 843-255-6529\, </span></span><a href="mailto:jbascom@bcgov.net"><span style="font-size: medium\;"><span style="font-family: calibri\;"><span style="color: rgb(0\, 0\, 255)\;">jbascom@bcgov.net</span></span></span></a><br />\n<strong><span style="font-size: 11pt\;"><span style="font-family: calibri\,sans-serif\;">Website:&nbsp\; </span></span></strong><span style="font-size: 11pt\;"><span style="font-family: calibri\,sans-serif\;">&nbsp\;&nbsp\;<a href="http://www.beaufortcountylibrary.org/"><span style="color: rgb(0\, 0\, 255)\;">www.beaufortcountylibrary.org</span></a></span></span>
LOCATION:
UID:e.1212.5070
SEQUENCE:3
DTSTAMP:20260421T182103Z
URL:http://business.beaufortchamber.org/events/details/library-trick-or-treating-for-kindergarten-through-5th-graders-hilton-head-library-10-31-2013-5070
END:VEVENT

END:VCALENDAR
