BEGIN:VCALENDAR
VERSION:2.0
PRODID:-//ChamberMaster//Event Calendar 2.0//EN
METHOD:PUBLISH
X-PUBLISHED-TTL:P3D
REFRESH-INTERVAL:P3D
CALSCALE:GREGORIAN
BEGIN:VEVENT
DTSTART:20111203T223000Z
DTEND:20111204T010000Z
X-MICROSOFT-CDO-ALLDAYEVENT:FALSE
SUMMARY:Light Up the Night Boat Parade
DESCRIPTION:Watch the magical display of boats decorated with lights as they amble up the Beaufort River.
X-ALT-DESC;FMTTYPE=text/html:Watch the magical display of boats decorated with lights as they amble up the Beaufort River.
LOCATION:Henry C. Chambers Waterfront Park
UID:e.1212.4333
SEQUENCE:3
DTSTAMP:20260423T060218Z
URL:http://business.beaufortchamber.org/events/details/light-up-the-night-boat-parade-12-03-2011-4333
END:VEVENT

END:VCALENDAR
