BEGIN:VCALENDAR
VERSION:2.0
PRODID:-//ChamberMaster//Event Calendar 2.0//EN
METHOD:PUBLISH
X-PUBLISHED-TTL:P3D
REFRESH-INTERVAL:P3D
CALSCALE:GREGORIAN
BEGIN:VEVENT
DTSTART;VALUE=DATE:20091205
DTEND;VALUE=DATE:20091206
TRANSP:TRANSPARENT
X-MICROSOFT-CDO-ALLDAYEVENT:TRUE
SUMMARY:Light Up The Night Boat Parade
DESCRIPTION:Contact Main Street Beaufort.  Details TBA
X-ALT-DESC;FMTTYPE=text/html:Contact Main Street Beaufort.  Details TBA
LOCATION:
UID:e.1212.2636
SEQUENCE:3
DTSTAMP:20260424T193446Z
URL:http://business.beaufortchamber.org/events/details/light-up-the-night-boat-parade-12-05-2009-2636
END:VEVENT

END:VCALENDAR
