BEGIN:VCALENDAR
VERSION:2.0
PRODID:-//ChamberMaster//Event Calendar 2.0//EN
METHOD:PUBLISH
X-PUBLISHED-TTL:P3D
REFRESH-INTERVAL:P3D
CALSCALE:GREGORIAN
BEGIN:VEVENT
DTSTART;VALUE=DATE:20081206
DTEND;VALUE=DATE:20081207
TRANSP:TRANSPARENT
X-MICROSOFT-CDO-ALLDAYEVENT:TRUE
SUMMARY:Light Up The Night Boat Parade
DESCRIPTION:All boats welcome and must be festively decorated.  Entrance fee is $15 per boat for registrations \nreceived by 5 pm on November 28 and $25 per boat for late registrations.  Prizes will be award in five\ncategories.  Call the numbers listed for information and to register.  Registrations may be completed at\nMain Street Beaufort USA\, 811 Bay Street\, Beaufort.\n\n  NO REGISTRATIONS WILL BE ACCEPTED ON THE DAY OF THE EVENT.
X-ALT-DESC;FMTTYPE=text/html:All boats welcome and must be festively decorated.  Entrance fee is $15 per boat for registrations \nreceived by 5 pm on November 28 and $25 per boat for late registrations.  Prizes will be award in five\ncategories.  Call the numbers listed for information and to register.  Registrations may be completed at\nMain Street Beaufort USA\, 811 Bay Street\, Beaufort.<BR><BR>  NO REGISTRATIONS WILL BE ACCEPTED ON THE DAY OF THE EVENT.
LOCATION:
UID:e.1212.2620
SEQUENCE:3
DTSTAMP:20260425T141220Z
URL:http://business.beaufortchamber.org/events/details/light-up-the-night-boat-parade-12-06-2008-2620
END:VEVENT

END:VCALENDAR
