BEGIN:VCALENDAR
VERSION:2.0
PRODID:-//ChamberMaster//Event Calendar 2.0//EN
METHOD:PUBLISH
X-PUBLISHED-TTL:P3D
REFRESH-INTERVAL:P3D
CALSCALE:GREGORIAN
BEGIN:VEVENT
DTSTART:20131207T223000Z
DTEND:20131208T013000Z
X-MICROSOFT-CDO-ALLDAYEVENT:FALSE
SUMMARY:Light Up the Night boat Parade
DESCRIPTION:Light Up The Night Boat Parade\n\nJoin Beaufort Sail and Power Squadron and Main Street Beaufort\, USA as we celebrate another festive holiday season and the magical display of decorated boats ambling up the Beaufort River in the Light Up the Night Boat Parade at the Waterfront Park.\n\n\n\nBring the family to watch the enchanted display of decorated boats\n\nand enjoy hot chocolate provided by The Greenery.\n\n \n\nFor more information and times:  www.downtownbeaufort.com
X-ALT-DESC;FMTTYPE=text/html:<br />\n<span style="font-size: medium\;"><span style="font-family: times new roman\;"><strong>Light Up The Night Boat Parade</strong><br />\nJoin Beaufort Sail and Power Squadron and Main Street Beaufort\, USA as we celebrate another&nbsp\;festive holiday season and the magical display of decorated boats ambling up the Beaufort River in&nbsp\;the <strong>Light Up the Night Boat Parade </strong>at the Waterfront Park.</span></span><br />\n<br />\n<span style="font-size: medium\;"><span style="font-family: times new roman\;">Bring the family to watch the enchanted display of decorated boats<br />\nand enjoy hot chocolate provided by The Greenery.<br />\n&nbsp\;</span></span><br />\nFor more information and times:&nbsp\; www.downtownbeaufort.com
LOCATION:
UID:e.1212.5080
SEQUENCE:3
DTSTAMP:20260421T151505Z
URL:http://business.beaufortchamber.org/events/details/light-up-the-night-boat-parade-12-07-2013-5080
END:VEVENT

END:VCALENDAR
