BEGIN:VCALENDAR
VERSION:2.0
PRODID:-//ChamberMaster//Event Calendar 2.0//EN
METHOD:PUBLISH
X-PUBLISHED-TTL:P3D
REFRESH-INTERVAL:P3D
CALSCALE:GREGORIAN
BEGIN:VEVENT
DTSTART;VALUE=DATE:20121208
DTEND;VALUE=DATE:20121209
TRANSP:TRANSPARENT
X-MICROSOFT-CDO-ALLDAYEVENT:TRUE
SUMMARY:Light up the Night Boat Parade
DESCRIPTION:Light Up The Night Boat Parade\n\nJoin Beaufort Sail and Power Squadron and Main Street Beaufort\, USA as we celebrate another festive holiday season and the magical display of decorated boats ambling up the Beaufort River in the Light Up the Night Boat Parade at the Waterfront Park.\n\n	Bring the family to watch the enchanted display of decorated boats and enjoy hot chocolate provided
X-ALT-DESC;FMTTYPE=text/html:Light Up The Night Boat Parade<br />\nJoin Beaufort Sail and Power Squadron and Main Street Beaufort\, USA as we celebrate another festive holiday season and the magical display of decorated boats ambling up the Beaufort River in the <strong>Light Up the Night Boat Parade </strong>at the Waterfront Park.\n<h2 align="center" style="text-align: left">\n	Bring the family to watch the enchanted display of decorated boats and enjoy hot chocolate provided</h2>\n
LOCATION:
UID:e.1212.4558
SEQUENCE:3
DTSTAMP:20260422T115534Z
URL:http://business.beaufortchamber.org/events/details/light-up-the-night-boat-parade-12-08-2012-4558
END:VEVENT

END:VCALENDAR
