BEGIN:VCALENDAR
VERSION:2.0
PRODID:-//ChamberMaster//Event Calendar 2.0//EN
METHOD:PUBLISH
X-PUBLISHED-TTL:P3D
REFRESH-INTERVAL:P3D
CALSCALE:GREGORIAN
BEGIN:VEVENT
DTSTART:20140127T150000Z
DTEND:20140127T190000Z
X-MICROSOFT-CDO-ALLDAYEVENT:FALSE
SUMMARY:Look Good Feel Better Certification Training
DESCRIPTION:The LGFB program is a national service program sponsored by the American Cancer Society\, the Professional Beauty Association\, and the Personal Care Products Council Foundation. This program helps women currently undergoing cancer treatment learn to cope with the appearance related side effects of treatment and regain a sense of self-confidence and control over their lives.\n\n	\n\n	Additionally\, volunteer opportunities are available to help cancer patients in getting to and from their life-saving cancer treatment. The Society is recruiting volunteers in Beaufort\, Hampton and Jasper County to drive cancer patients to and from their treatment through the American Cancer Society Road To Recovery  program
X-ALT-DESC;FMTTYPE=text/html:<div style="color: gray\;">\n	<span style="font: 13px/normal arial\, sans-serif\; color: rgb(34\, 34\, 34)\; text-transform: none\; text-indent: 0px\; letter-spacing: normal\; word-spacing: 0px\; float: none\; display: inline !important\; white-space: normal\; font-size-adjust: none\; font-stretch: normal\; background-color: rgb(255\, 255\, 255)\; -webkit-text-stroke-width: 0px\;">The LGFB program is a national service program sponsored by the American Cancer Society\, the Professional Beauty Association\, and the Personal Care Products Council Foundation. This program helps women currently undergoing cancer treatment learn to cope with the appearance related side effects of treatment and regain a sense of self-confidence and control over their lives.<br />\n	<br />\n	<span style="font: 13px/normal arial\, sans-serif\; color: rgb(34\, 34\, 34)\; text-transform: none\; text-indent: 0px\; letter-spacing: normal\; word-spacing: 0px\; float: none\; display: inline !important\; white-space: normal\; font-size-adjust: none\; font-stretch: normal\; background-color: rgb(255\, 255\, 255)\; -webkit-text-stroke-width: 0px\;">Additionally\, volunteer opportunities are available to help cancer patients in getting to and from their life-saving cancer treatment. The Society is recruiting volunteers in Beaufort\, Hampton and Jasper County to drive cancer patients to and from their treatment through the American Cancer Society Road To Recovery</span><sup style="color: rgb(34\, 34\, 34)\; text-transform: none\; line-height: normal\; text-indent: 0px\; letter-spacing: normal\; font-family: arial\, sans-serif\; font-style: normal\; font-variant: normal\; font-weight: normal\; word-spacing: 0px\; white-space: normal\; background-color: rgb(255\, 255\, 255)\; -webkit-text-stroke-width: 0px\;"><font size="2">&reg\;</font></sup><span style="font: 13px/normal arial\, sans-serif\; color: rgb(34\, 34\, 34)\; text-transform: none\; text-indent: 0px\; letter-spacing: normal\; word-spacing: 0px\; float: none\; display: inline !important\; white-space: normal\; font-size-adjust: none\; font-stretch: normal\; background-color: rgb(255\, 255\, 255)\; -webkit-text-stroke-width: 0px\;"><span class="Apple-converted-space">&nbsp\;</span>program</span></span></div>\n
LOCATION:Beaufort Memorial Keyserling Cancer Center conference room 1680 Ribaut Road\, Port Royal\, S.C
UID:e.1212.5228
SEQUENCE:3
DTSTAMP:20260421T131806Z
URL:http://business.beaufortchamber.org/events/details/look-good-feel-better-certification-training-01-27-2014-5228
END:VEVENT

END:VCALENDAR
