BEGIN:VCALENDAR
VERSION:2.0
PRODID:-//ChamberMaster//Event Calendar 2.0//EN
METHOD:PUBLISH
X-PUBLISHED-TTL:P3D
REFRESH-INTERVAL:P3D
CALSCALE:GREGORIAN
BEGIN:VEVENT
DTSTART;VALUE=DATE:20091002
DTEND;VALUE=DATE:20091003
TRANSP:TRANSPARENT
X-MICROSOFT-CDO-ALLDAYEVENT:TRUE
SUMMARY:Love House Ministries - 'A Celebration of the Arts'
DESCRIPTION:Expressions of dance\, mime\, step\, poetry and Drama\nFree and open to the public\n\nSee workshop session on Saturday cost $40
X-ALT-DESC;FMTTYPE=text/html:Expressions of dance\, mime\, step\, poetry and Drama\nFree and open to the public\n\nSee workshop session on Saturday cost $40
LOCATION:
UID:e.1212.3576
SEQUENCE:3
DTSTAMP:20260424T221952Z
URL:http://business.beaufortchamber.org/events/details/love-house-ministries-a-celebration-of-the-arts-10-02-2009-3576
END:VEVENT

END:VCALENDAR
