BEGIN:VCALENDAR
VERSION:2.0
PRODID:-//ChamberMaster//Event Calendar 2.0//EN
METHOD:PUBLISH
X-PUBLISHED-TTL:P3D
REFRESH-INTERVAL:P3D
CALSCALE:GREGORIAN
BEGIN:VEVENT
DTSTART;VALUE=DATE:20091003
DTEND;VALUE=DATE:20091004
TRANSP:TRANSPARENT
X-MICROSOFT-CDO-ALLDAYEVENT:TRUE
SUMMARY:Love House Ministries - I Praise\, I Worship\, I Dance Workshop Session
DESCRIPTION:Join us for a wonderful day of workshops\, general sessions\, continental breakfast\, lunch and more.\nCost: $40
X-ALT-DESC;FMTTYPE=text/html:Join us for a wonderful day of workshops\, general sessions\, continental breakfast\, lunch and more.\nCost: $40
LOCATION:
UID:e.1212.3577
SEQUENCE:3
DTSTAMP:20260424T233755Z
URL:http://business.beaufortchamber.org/events/details/love-house-ministries-i-praise-i-worship-i-dance-workshop-session-10-03-2009-3577
END:VEVENT

END:VCALENDAR
