BEGIN:VCALENDAR
VERSION:2.0
PRODID:-//ChamberMaster//Event Calendar 2.0//EN
METHOD:PUBLISH
X-PUBLISHED-TTL:P3D
REFRESH-INTERVAL:P3D
CALSCALE:GREGORIAN
BEGIN:VEVENT
DTSTART:20130309T003000Z
DTEND:20130310T190000Z
X-MICROSOFT-CDO-ALLDAYEVENT:FALSE
SUMMARY:Love Loss and What I Wore - Beaufort Theatre Company
DESCRIPTION:LOVE \, LOSS AND WHAT I WORE Written by Nora and Delia Ephron and based on the book by Ilene Beckerman\, the show is a scrapbook of stories about unfortunate prom dresses\, the traumatic lighting in fitting rooms\, high heels\, short skirts and the existential state of having nothing to wear. Accessorizing these tales   which are mostly comic but often sad or sentimental too   are the mothers who disapprove\, the men who disappear\, the sisters who've got your back.\n\n	\n\n	Directed by Gail Westerfield
X-ALT-DESC;FMTTYPE=text/html:<style type="text/css">\n</style>\n<p class="MsoNormal" style="mso-pagination: none\; mso-layout-grid-align: none\;">\n	<span new="" times="">LOVE \, LOSS AND WHAT I WORE Written by Nora and Delia Ephron and based on the book by Ilene Beckerman\, the show is a scrapbook of stories about unfortunate prom dresses\, the traumatic lighting in fitting rooms\, high heels\, short skirts and the existential state of having nothing to wear. Accessorizing these tales &mdash\; which are mostly comic but often sad or sentimental too &mdash\; are the mothers who disapprove\, the men who disappear\, the sisters who&rsquo\;ve got your back.<br />\n	<br />\n	Directed by Gail Westerfield </span></p>\n
LOCATION:USCB CENTER FOR THE ARTS
UID:e.1212.4729
SEQUENCE:3
DTSTAMP:20260422T070353Z
URL:http://business.beaufortchamber.org/events/details/love-loss-and-what-i-wore-beaufort-theatre-company-03-08-2013-4729
END:VEVENT

END:VCALENDAR
