BEGIN:VCALENDAR
VERSION:2.0
PRODID:-//ChamberMaster//Event Calendar 2.0//EN
METHOD:PUBLISH
X-PUBLISHED-TTL:P3D
REFRESH-INTERVAL:P3D
CALSCALE:GREGORIAN
BEGIN:VEVENT
DTSTART;VALUE=DATE:20091102
DTEND;VALUE=DATE:20091103
TRANSP:TRANSPARENT
X-MICROSOFT-CDO-ALLDAYEVENT:TRUE
SUMMARY:Lowcountry Autism Foundation (LAF) - Charity Golf Tournament
DESCRIPTION:Come out and join us for a full day of golf\, fun\, food and an opportunity to help support this wonderful "volunteer-based" orginizations foundation.\nFormat will be a 4-person shamble with all ties broken by a sudden-death match of scorecards starting with the number 1 handicap\nAwards - First 3 teams will be recognized\nEntery Fee:  $150 per person or $600 per team (4) - includes practice range\, lunch\, green fees\, cart\, gifts\, reception and prizes\nRegistration available on line\n11:00am - Registration\, Practice\, Lunch\n12:00pm - Shot Gun Start\n6:00pm - Reception\, Auction and Awards Ceremony
X-ALT-DESC;FMTTYPE=text/html:Come out and join us for a full day of golf\, fun\, food and an opportunity to help support this wonderful "volunteer-based" orginizations foundation.\nFormat will be a 4-person shamble with all ties broken by a sudden-death match of scorecards starting with the number 1 handicap\nAwards - First 3 teams will be recognized\nEntery Fee:  $150 per person or $600 per team (4) - includes practice range\, lunch\, green fees\, cart\, gifts\, reception and prizes\nRegistration available on line\n11:00am - Registration\, Practice\, Lunch\n12:00pm - Shot Gun Start\n6:00pm - Reception\, Auction and Awards Ceremony
LOCATION:
UID:e.1212.3646
SEQUENCE:3
DTSTAMP:20260424T210542Z
URL:http://business.beaufortchamber.org/events/details/lowcountry-autism-foundation-laf-charity-golf-tournament-11-02-2009-3646
END:VEVENT

END:VCALENDAR
