BEGIN:VCALENDAR
VERSION:2.0
PRODID:-//ChamberMaster//Event Calendar 2.0//EN
METHOD:PUBLISH
X-PUBLISHED-TTL:P3D
REFRESH-INTERVAL:P3D
CALSCALE:GREGORIAN
BEGIN:VEVENT
DTSTART;VALUE=DATE:20130309
DTEND;VALUE=DATE:20130310
TRANSP:TRANSPARENT
X-MICROSOFT-CDO-ALLDAYEVENT:TRUE
SUMMARY:Lowcountry BBQ Cook-off - Benefitting Yemassee Revitalization Corp.
DESCRIPTION:Rescheduled from Saturday\, Feb 23rd due to weather.  Tickets already purchased will be honored on March 9th.
X-ALT-DESC;FMTTYPE=text/html:Rescheduled from Saturday\, Feb 23rd due to weather.&nbsp\; Tickets already purchased will be honored on March 9th.&nbsp\; 
LOCATION:Richfield Plantation\, Yemassee\, SC
UID:e.1212.4776
SEQUENCE:3
DTSTAMP:20260422T070221Z
URL:http://business.beaufortchamber.org/events/details/lowcountry-bbq-cook-off-benefitting-yemassee-revitalization-corp-03-09-2013-4776
END:VEVENT

END:VCALENDAR
