BEGIN:VCALENDAR
VERSION:2.0
PRODID:-//ChamberMaster//Event Calendar 2.0//EN
METHOD:PUBLISH
X-PUBLISHED-TTL:P3D
REFRESH-INTERVAL:P3D
CALSCALE:GREGORIAN
BEGIN:VEVENT
DTSTART;VALUE=DATE:20091212
DTEND;VALUE=DATE:20091213
TRANSP:TRANSPARENT
X-MICROSOFT-CDO-ALLDAYEVENT:TRUE
SUMMARY:Lowcountry Children's Chorus - 8th Annual Holiday Concert
DESCRIPTION:The Lowcountry Children's Chorus will be presenting its 8th Annual Holiday Concert on Saturday\, December 12 at 3pm at The Baptist Church of Beaufort.  The concert is billed this year as "Celebrating the Season with Lowcountry Children's Chorus and Celebration brass" under the direction of Dr. Melanie Williams and accompanied by Linda Keene.  \n\nAdmission is $5 per person\n\nTickets may be purchased in advance at The Baptist Church of Beaufort Main Office\, Beaufort Visitors' Center\, or at the door.
X-ALT-DESC;FMTTYPE=text/html:The Lowcountry Children's Chorus will be presenting its 8th Annual Holiday Concert on Saturday\, December 12 at 3pm at The Baptist Church of Beaufort.  The concert is billed this year as "Celebrating the Season with Lowcountry Children's Chorus and Celebration brass" under the direction of Dr. Melanie Williams and accompanied by Linda Keene.  \n\nAdmission is $5 per person\n\nTickets may be purchased in advance at The Baptist Church of Beaufort Main Office\, Beaufort Visitors' Center\, or at the door.
LOCATION:
UID:e.1212.3718
SEQUENCE:3
DTSTAMP:20260424T193823Z
URL:http://business.beaufortchamber.org/events/details/lowcountry-children-s-chorus-8th-annual-holiday-concert-12-12-2009-3718
END:VEVENT

END:VCALENDAR
