BEGIN:VCALENDAR
VERSION:2.0
PRODID:-//ChamberMaster//Event Calendar 2.0//EN
METHOD:PUBLISH
X-PUBLISHED-TTL:P3D
REFRESH-INTERVAL:P3D
CALSCALE:GREGORIAN
BEGIN:VEVENT
DTSTART;VALUE=DATE:20091218
DTEND;VALUE=DATE:20091219
TRANSP:TRANSPARENT
X-MICROSOFT-CDO-ALLDAYEVENT:TRUE
SUMMARY:Lowcountry Colors: Charles Street Gallery's Annual Invitational
DESCRIPTION:Opening reception with artists on Friday\, December 18th\, 5:30pm-9:30pm\, through January 9th.\n\nThe colors of the Lowcountry shine in the morning\, shimmer across the water\, vine tightly through the neighborhoods\, and settle onto the canvases of artists of this resplendent region.  In the 5th annual invitational\, the tones are bold\, the hues are vivid\, and each artist's imagination is drenched in ROY G BIV.  Working in pastels\, watercolors\, oils\, film\, and more media\, Charles Street Gallery's invited artists are at their spectrum-filling best for this holiday show\, including Karen Peluso\, Sharon DeAlexandris\, Benton Lutz\, Lynn Brown\, Sharon Hardy\, Joan Templer\, Carol Henry\, and a few others who will bring their purple perspectives\, red renditions\, and orange homages to fill the tall walls of a "locals' favorite" gallery.  The public is invited to the reception and to browse the galler through January 9th ~ find out what color your Lowcountry can be.
X-ALT-DESC;FMTTYPE=text/html:Opening reception with artists on Friday\, December 18th\, 5:30pm-9:30pm\, through January 9th.\n\nThe colors of the Lowcountry shine in the morning\, shimmer across the water\, vine tightly through the neighborhoods\, and settle onto the canvases of artists of this resplendent region.  In the 5th annual invitational\, the tones are bold\, the hues are vivid\, and each artist's imagination is drenched in ROY G BIV.  Working in pastels\, watercolors\, oils\, film\, and more media\, Charles Street Gallery's invited artists are at their spectrum-filling best for this holiday show\, including Karen Peluso\, Sharon DeAlexandris\, Benton Lutz\, Lynn Brown\, Sharon Hardy\, Joan Templer\, Carol Henry\, and a few others who will bring their purple perspectives\, red renditions\, and orange homages to fill the tall walls of a "locals' favorite" gallery.  The public is invited to the reception and to browse the galler through January 9th ~ find out what color your Lowcountry can be.
LOCATION:
UID:e.1212.3701
SEQUENCE:3
DTSTAMP:20260424T194027Z
URL:http://business.beaufortchamber.org/events/details/lowcountry-colors-charles-street-gallery-s-annual-invitational-12-18-2009-3701
END:VEVENT

END:VCALENDAR
