BEGIN:VCALENDAR
VERSION:2.0
PRODID:-//ChamberMaster//Event Calendar 2.0//EN
METHOD:PUBLISH
X-PUBLISHED-TTL:P3D
REFRESH-INTERVAL:P3D
CALSCALE:GREGORIAN
BEGIN:VEVENT
DTSTART;VALUE=DATE:20091105
DTEND;VALUE=DATE:20091106
TRANSP:TRANSPARENT
X-MICROSOFT-CDO-ALLDAYEVENT:TRUE
SUMMARY:Lowcountry Community Blood Center BMH - Exchange Club of Beaufort
DESCRIPTION:Come join us for our 1st blood drive at the new donor center\nParticipants are asked to call and make an appointment\nYou can also get a list of futrue blood drives in your area - Go to our web site and under "Find a Drive" enter you zip code or the Exchange Club of Beaufort's account code number 3068
X-ALT-DESC;FMTTYPE=text/html:Come join us for our 1st blood drive at the new donor center\nParticipants are asked to call and make an appointment\nYou can also get a list of futrue blood drives in your area - Go to our web site and under "Find a Drive" enter you zip code or the Exchange Club of Beaufort's account code number 3068
LOCATION:
UID:e.1212.3680
SEQUENCE:3
DTSTAMP:20260424T210818Z
URL:http://business.beaufortchamber.org/events/details/lowcountry-community-blood-center-bmh-exchange-club-of-beaufort-11-05-2009-3680
END:VEVENT

END:VCALENDAR
