BEGIN:VCALENDAR
VERSION:2.0
PRODID:-//ChamberMaster//Event Calendar 2.0//EN
METHOD:PUBLISH
X-PUBLISHED-TTL:P3D
REFRESH-INTERVAL:P3D
CALSCALE:GREGORIAN
BEGIN:VEVENT
DTSTART;VALUE=DATE:20090929
DTEND;VALUE=DATE:20090930
TRANSP:TRANSPARENT
X-MICROSOFT-CDO-ALLDAYEVENT:TRUE
SUMMARY:Lowcountry Estuarium 'All About the Crabs'
DESCRIPTION:Learn the life cycle of blue crabs and methods of catching them\nRegistration is required
X-ALT-DESC;FMTTYPE=text/html:Learn the life cycle of blue crabs and methods of catching them\nRegistration is required
LOCATION:
UID:e.1212.3566
SEQUENCE:3
DTSTAMP:20260425T010735Z
URL:http://business.beaufortchamber.org/events/details/lowcountry-estuarium-all-about-the-crabs-09-29-2009-3566
END:VEVENT

END:VCALENDAR
