BEGIN:VCALENDAR
VERSION:2.0
PRODID:-//ChamberMaster//Event Calendar 2.0//EN
METHOD:PUBLISH
X-PUBLISHED-TTL:P3D
REFRESH-INTERVAL:P3D
CALSCALE:GREGORIAN
BEGIN:VEVENT
DTSTART;VALUE=DATE:20090928
DTEND;VALUE=DATE:20090929
TRANSP:TRANSPARENT
X-MICROSOFT-CDO-ALLDAYEVENT:TRUE
SUMMARY:Lowcountry Estuarium Beach Walk
DESCRIPTION:Join the Lowcountry Estuarium curator in collecting specimens for a new beach tank exhibit.\nRegistration is required.
X-ALT-DESC;FMTTYPE=text/html:Join the Lowcountry Estuarium curator in collecting specimens for a new beach tank exhibit.\nRegistration is required.
LOCATION:
UID:e.1212.3565
SEQUENCE:3
DTSTAMP:20260424T234956Z
URL:http://business.beaufortchamber.org/events/details/lowcountry-estuarium-beach-walk-09-28-2009-3565
END:VEVENT

END:VCALENDAR
