BEGIN:VCALENDAR
VERSION:2.0
PRODID:-//ChamberMaster//Event Calendar 2.0//EN
METHOD:PUBLISH
X-PUBLISHED-TTL:P3D
REFRESH-INTERVAL:P3D
CALSCALE:GREGORIAN
BEGIN:VEVENT
DTSTART;VALUE=DATE:20090930
DTEND;VALUE=DATE:20091001
TRANSP:TRANSPARENT
X-MICROSOFT-CDO-ALLDAYEVENT:TRUE
SUMMARY:Lowcountry Estuarium 'Exploring the Intertidal Zone'
DESCRIPTION:Learn about the habitats and creatures found between the tides\nRegistration is required
X-ALT-DESC;FMTTYPE=text/html:Learn about the habitats and creatures found between the tides\nRegistration is required
LOCATION:
UID:e.1212.3567
SEQUENCE:3
DTSTAMP:20260424T234740Z
URL:http://business.beaufortchamber.org/events/details/lowcountry-estuarium-exploring-the-intertidal-zone-09-30-2009-3567
END:VEVENT

END:VCALENDAR
