BEGIN:VCALENDAR
VERSION:2.0
PRODID:-//ChamberMaster//Event Calendar 2.0//EN
METHOD:PUBLISH
X-PUBLISHED-TTL:P3D
REFRESH-INTERVAL:P3D
CALSCALE:GREGORIAN
BEGIN:VEVENT
DTSTART;VALUE=DATE:20081213
DTEND;VALUE=DATE:20081214
TRANSP:TRANSPARENT
X-MICROSOFT-CDO-ALLDAYEVENT:TRUE
SUMMARY:Lowcountry Event Services Association Holiday Fundraiser
DESCRIPTION:Group of local special events professionals gathereing to make Chrismas more special for children with little or no Christmas.  Stop by to hear the holiday music and help provide them with stockings and presents.
X-ALT-DESC;FMTTYPE=text/html:Group of local special events professionals gathereing to make Chrismas more special for children with little or no Christmas.  Stop by to hear the holiday music and help provide them with stockings and presents.
LOCATION:
UID:e.1212.2858
SEQUENCE:3
DTSTAMP:20260425T141501Z
URL:http://business.beaufortchamber.org/events/details/lowcountry-event-services-association-holiday-fundraiser-12-13-2008-2858
END:VEVENT

END:VCALENDAR
