BEGIN:VCALENDAR
VERSION:2.0
PRODID:-//ChamberMaster//Event Calendar 2.0//EN
METHOD:PUBLISH
X-PUBLISHED-TTL:P3D
REFRESH-INTERVAL:P3D
CALSCALE:GREGORIAN
BEGIN:VEVENT
DTSTART:20130307T150000Z
DTEND:20130307T190000Z
X-MICROSOFT-CDO-ALLDAYEVENT:FALSE
SUMMARY:Lowcountry Job Fair
DESCRIPTION:FREE TO ATTEND \n\n	NO PRE-REGISTRATION REQUIRED\n\n	\n\n	Exhibitors include employers\, agencies and schools!
X-ALT-DESC;FMTTYPE=text/html:<p>\n	&nbsp\;</p>\n<p>\n	&nbsp\;</p>\n<p>\n	<b><font size="5">FREE TO ATTEND </font></b></p>\n<p>\n	<b><font size="5">NO PRE-REGISTRATION REQUIRED</font></b></p>\n<p>\n	<br />\n	<b><font size="5">Exhibitors include employers\, agencies and schools!&nbsp\;</font></b></p>
LOCATION:MacLean Hall\, Building 12\, 921 Ribaut Road\, Beaufort\, SC 29902
UID:e.1212.4769
SEQUENCE:3
DTSTAMP:20260422T070124Z
URL:http://business.beaufortchamber.org/events/details/lowcountry-job-fair-03-07-2013-4769
END:VEVENT

END:VCALENDAR
