BEGIN:VCALENDAR
VERSION:2.0
PRODID:-//ChamberMaster//Event Calendar 2.0//EN
METHOD:PUBLISH
X-PUBLISHED-TTL:P3D
REFRESH-INTERVAL:P3D
CALSCALE:GREGORIAN
BEGIN:VEVENT
DTSTART:20111029T120000Z
DTEND:20111030T203000Z
X-MICROSOFT-CDO-ALLDAYEVENT:FALSE
SUMMARY:Lowcountry Produce - Halloween !
DESCRIPTION:Come out and have breakfast or lunch\, pick out your very own pumpkins from the pumpkin patch !  There will be pony rides\, hayrides\, face painting\, small petting zoo and a maze geared for pre-school to 4 year olds\, which will be lots of fun for the little ones.  Then take home some fresh breads and lots of yummy home made desserts.  We offer a wide variety of home canned fruits and vegetables as well as fresh from the gardens products.
X-ALT-DESC;FMTTYPE=text/html:Come out and have breakfast or lunch\, pick out your very own pumpkins from the pumpkin patch !&nbsp\; There will be&nbsp\;pony rides\, hayrides\, face painting\, small petting zoo and a maze geared for pre-school to 4 year olds\, which will be lots of fun for the little ones.&nbsp\; Then take home some fresh breads and lots of yummy home made desserts.&nbsp\; We offer a wide variety of home canned fruits and vegetables as well as fresh from the gardens products.&nbsp\; 
LOCATION:Lowcountry Produce 1919 Trask Parkway (Hwy 21 N) Lobeco\, SC 29931
UID:e.1212.4331
SEQUENCE:3
DTSTAMP:20260423T092608Z
URL:http://business.beaufortchamber.org/events/details/lowcountry-produce-halloween-10-29-2011-4331
END:VEVENT

END:VCALENDAR
