BEGIN:VCALENDAR
VERSION:2.0
PRODID:-//ChamberMaster//Event Calendar 2.0//EN
METHOD:PUBLISH
X-PUBLISHED-TTL:P3D
REFRESH-INTERVAL:P3D
CALSCALE:GREGORIAN
BEGIN:VEVENT
DTSTART;VALUE=DATE:20091024
DTEND;VALUE=DATE:20091025
TRANSP:TRANSPARENT
X-MICROSOFT-CDO-ALLDAYEVENT:TRUE
SUMMARY:Lowcountry Young Professional (LYP) - Habersham Harvest Festival
DESCRIPTION:Celebrate the Bounty of the Harvest and the Joy of the Fall season with an expanded Farmer's market\, festive food & drink\, live music & entertainment\, hayrides\, storytelling\, arts & crafts\, dancing\, fireworks and more !\nFree admission\, activites and fun for the entire family.\nStop by the LYP tent and get a free "Koozie" and sign up for the door prize
X-ALT-DESC;FMTTYPE=text/html:Celebrate the Bounty of the Harvest and the Joy of the Fall season with an expanded Farmer's market\, festive food & drink\, live music & entertainment\, hayrides\, storytelling\, arts & crafts\, dancing\, fireworks and more !\nFree admission\, activites and fun for the entire family.\nStop by the LYP tent and get a free "Koozie" and sign up for the door prize
LOCATION:
UID:e.1212.3578
SEQUENCE:3
DTSTAMP:20260424T234554Z
URL:http://business.beaufortchamber.org/events/details/lowcountry-young-professional-lyp-habersham-harvest-festival-10-24-2009-3578
END:VEVENT

END:VCALENDAR
