BEGIN:VCALENDAR
VERSION:2.0
PRODID:-//ChamberMaster//Event Calendar 2.0//EN
METHOD:PUBLISH
X-PUBLISHED-TTL:P3D
REFRESH-INTERVAL:P3D
CALSCALE:GREGORIAN
BEGIN:VEVENT
DTSTART:20260507T213000Z
DTEND:20260507T230000Z
X-MICROSOFT-CDO-ALLDAYEVENT:FALSE
SUMMARY:Lowcountry Young Professionals May Networking Event
DESCRIPTION:Join the Lowcountry Young Professionals for May's Networking event sponsored by the Chambers Helms Group.
X-ALT-DESC;FMTTYPE=text/html:Join the Lowcountry Young Professionals for May&#39\;s Networking event sponsored by the Chambers Helms Group.
LOCATION:Beaufort Digital Corridor 500 Carteret Street Beaufort\, SC 29902
UID:e.1212.15013
SEQUENCE:3
DTSTAMP:20260421T180445Z
URL:http://business.beaufortchamber.org/events/details/lowcountry-young-professionals-may-networking-event-15013
END:VEVENT

END:VCALENDAR
