BEGIN:VCALENDAR
VERSION:2.0
PRODID:-//ChamberMaster//Event Calendar 2.0//EN
METHOD:PUBLISH
X-PUBLISHED-TTL:P3D
REFRESH-INTERVAL:P3D
CALSCALE:GREGORIAN
BEGIN:VEVENT
DTSTART;VALUE=DATE:20081210
DTEND;VALUE=DATE:20081211
TRANSP:TRANSPARENT
X-MICROSOFT-CDO-ALLDAYEVENT:TRUE
SUMMARY:Lunch and Learn Series - Sales Styles & Buying Styles
DESCRIPTION:Join us with E.G. Sebastian Workshops & Seminars to learn how to increase your sales effectiveness using   the power of personality.  Learn to communicate better and improve your sales relationships.  Discover simple techniques that will help you successfully adapt your sales style to sell most effectively to each of the buying styles.   $10 Members   $20 Non Members.  Fee includes lunch.  Please RSVP by Monday\, December 8th.
X-ALT-DESC;FMTTYPE=text/html:Join us with E.G. Sebastian Workshops & Seminars to learn how to increase your sales effectiveness using   the power of personality.  Learn to communicate better and improve your sales relationships.  Discover simple techniques that will help you successfully adapt your sales style to sell most effectively to each of the buying styles.   $10 Members   $20 Non Members.  Fee includes lunch.  Please RSVP by Monday\, December 8th.
LOCATION:
UID:e.1212.2832
SEQUENCE:3
DTSTAMP:20260425T152142Z
URL:http://business.beaufortchamber.org/events/details/lunch-and-learn-series-sales-styles-buying-styles-12-10-2008-2832
END:VEVENT

END:VCALENDAR
