BEGIN:VCALENDAR
VERSION:2.0
PRODID:-//ChamberMaster//Event Calendar 2.0//EN
METHOD:PUBLISH
X-PUBLISHED-TTL:P3D
REFRESH-INTERVAL:P3D
CALSCALE:GREGORIAN
BEGIN:VEVENT
DTSTART:20150318T160000Z
DTEND:20150318T170000Z
X-MICROSOFT-CDO-ALLDAYEVENT:FALSE
SUMMARY:Lunch & Learn - Building Your Brand through Instagram & Twitter
DESCRIPTION:Please join us on Wednesday\, March 18 at noon to learn how to Build Your Brand through Instagram & Twitter presented by SK Associates.\n\n\n\nLunch will be provided by Magnolia Bakery Cafe.
X-ALT-DESC;FMTTYPE=text/html:Please join us on Wednesday\, March 18 at noon to learn how to Build Your Brand through Instagram &amp\; Twitter&nbsp\;presented by SK Associates.<br />\n<br />\nLunch will be provided by Magnolia Bakery Cafe.
LOCATION:Carnegie Conference Room 701 Craven Street Chamber Offices
UID:e.1212.6371
SEQUENCE:3
DTSTAMP:20260422T104018Z
URL:http://business.beaufortchamber.org/events/details/lunch-learn-building-your-brand-through-instagram-twitter-03-18-2015-6371
END:VEVENT

END:VCALENDAR
