BEGIN:VCALENDAR
VERSION:2.0
PRODID:-//ChamberMaster//Event Calendar 2.0//EN
METHOD:PUBLISH
X-PUBLISHED-TTL:P3D
REFRESH-INTERVAL:P3D
CALSCALE:GREGORIAN
BEGIN:VEVENT
DTSTART;VALUE=DATE:20100211
DTEND;VALUE=DATE:20100212
TRANSP:TRANSPARENT
X-MICROSOFT-CDO-ALLDAYEVENT:TRUE
SUMMARY:Main Street Beaufort\, USA - Dowtown Merchants Meeting
DESCRIPTION:Main Street Beaufort Board of Directors would like to hear your feedback on the recent parking porposal that will be discussed by City Council for approval.  We would like to hear from as many merchants as possible.  Proposals will be available at the meeting.
X-ALT-DESC;FMTTYPE=text/html:Main Street Beaufort Board of Directors would like to hear your feedback on the recent parking porposal that will be discussed by City Council for approval.  We would like to hear from as many merchants as possible.  Proposals will be available at the meeting.
LOCATION:
UID:e.1212.3775
SEQUENCE:3
DTSTAMP:20260424T184452Z
URL:http://business.beaufortchamber.org/events/details/main-street-beaufort-usa-dowtown-merchants-meeting-02-11-2010-3775
END:VEVENT

END:VCALENDAR
