BEGIN:VCALENDAR
VERSION:2.0
PRODID:-//ChamberMaster//Event Calendar 2.0//EN
METHOD:PUBLISH
X-PUBLISHED-TTL:P3D
REFRESH-INTERVAL:P3D
CALSCALE:GREGORIAN
BEGIN:VEVENT
DTSTART;VALUE=DATE:20091014
DTEND;VALUE=DATE:20091015
TRANSP:TRANSPARENT
X-MICROSOFT-CDO-ALLDAYEVENT:TRUE
SUMMARY:Main Street Beaufort\, USA - Lunchtime Concert
DESCRIPTION:Bring your lunch down to the park and pull up a bench\, pack a pick-nic lunch and bring your blanket or have lunch at one of the fine restaurants with outdoor seating along the waterfront park and listen to the sounds of Charles Richards from Rockledge\, Florida.  He got his first guitar at eleven years of age and practiced every afternoon.  By the time he was seventeen years old he was playing in Honky Tonks and has been at it ever since\, entertaining Lowcountry crowds and festivals as well.\nCost: Free and open to the public
X-ALT-DESC;FMTTYPE=text/html:Bring your lunch down to the park and pull up a bench\, pack a pick-nic lunch and bring your blanket or have lunch at one of the fine restaurants with outdoor seating along the waterfront park and listen to the sounds of Charles Richards from Rockledge\, Florida.  He got his first guitar at eleven years of age and practiced every afternoon.  By the time he was seventeen years old he was playing in Honky Tonks and has been at it ever since\, entertaining Lowcountry crowds and festivals as well.\nCost: Free and open to the public
LOCATION:
UID:e.1212.3443
SEQUENCE:3
DTSTAMP:20260424T221956Z
URL:http://business.beaufortchamber.org/events/details/main-street-beaufort-usa-lunchtime-concert-10-14-2009-3443
END:VEVENT

END:VCALENDAR
