BEGIN:VCALENDAR
VERSION:2.0
PRODID:-//ChamberMaster//Event Calendar 2.0//EN
METHOD:PUBLISH
X-PUBLISHED-TTL:P3D
REFRESH-INTERVAL:P3D
CALSCALE:GREGORIAN
BEGIN:VEVENT
DTSTART;VALUE=DATE:20100128
DTEND;VALUE=DATE:20100129
TRANSP:TRANSPARENT
X-MICROSOFT-CDO-ALLDAYEVENT:TRUE
SUMMARY:Main Street Beaufort\, USA - Movies in the Park
DESCRIPTION:Bring your chairs\, blankets and the children for an evening of fun while you watch the presentation of a classic movie  "Happy Feet"\nOpen to the public at no cost for the movie\nRefreshments available for purchase
X-ALT-DESC;FMTTYPE=text/html:Bring your chairs\, blankets and the children for an evening of fun while you watch the presentation of a classic movie  "Happy Feet"\nOpen to the public at no cost for the movie\nRefreshments available for purchase
LOCATION:
UID:e.1212.3751
SEQUENCE:3
DTSTAMP:20260424T194128Z
URL:http://business.beaufortchamber.org/events/details/main-street-beaufort-usa-movies-in-the-park-01-28-2010-3751
END:VEVENT

END:VCALENDAR
