BEGIN:VCALENDAR
VERSION:2.0
PRODID:-//ChamberMaster//Event Calendar 2.0//EN
METHOD:PUBLISH
X-PUBLISHED-TTL:P3D
REFRESH-INTERVAL:P3D
CALSCALE:GREGORIAN
BEGIN:VEVENT
DTSTART;VALUE=DATE:20091029
DTEND;VALUE=DATE:20091030
TRANSP:TRANSPARENT
X-MICROSOFT-CDO-ALLDAYEVENT:TRUE
SUMMARY:Main Street Beaufort\, USA - Movies in the Park - Monsters Vs. Aliens
DESCRIPTION:Bring your chairs\, blankets and your little "goblins and witches" to the movie after trick-or-treat\n\nBox dinner's for kids available at Nippy's Fish\, Palm and Moon Bagel Shop\, Panini's\, Plums and Southern Sweets Ice Cream Parlor\n\nThere will be a special performance by the Beaufort Elementary Drumming Seagulls and the Lady's Island Elementary School Dancers.
X-ALT-DESC;FMTTYPE=text/html:Bring your chairs\, blankets and your little "goblins and witches" to the movie after trick-or-treat\n\nBox dinner's for kids available at Nippy's Fish\, Palm and Moon Bagel Shop\, Panini's\, Plums and Southern Sweets Ice Cream Parlor\n\nThere will be a special performance by the Beaufort Elementary Drumming Seagulls and the Lady's Island Elementary School Dancers.
LOCATION:
UID:e.1212.3439
SEQUENCE:3
DTSTAMP:20260424T222128Z
URL:http://business.beaufortchamber.org/events/details/main-street-beaufort-usa-movies-in-the-park-monsters-vs-aliens-10-29-2009-3439
END:VEVENT

END:VCALENDAR
