BEGIN:VCALENDAR
VERSION:2.0
PRODID:-//ChamberMaster//Event Calendar 2.0//EN
METHOD:PUBLISH
X-PUBLISHED-TTL:P3D
REFRESH-INTERVAL:P3D
CALSCALE:GREGORIAN
BEGIN:VEVENT
DTSTART;VALUE=DATE:20090827
DTEND;VALUE=DATE:20090828
TRANSP:TRANSPARENT
X-MICROSOFT-CDO-ALLDAYEVENT:TRUE
SUMMARY:Main Street Beaufort\, USA - Movies in the Park - The Great Santini
DESCRIPTION:Brought to you by Main Street Beaufort and the Beaufort City Hospitality Association.  Concessions will be sold and proceeds to benefit the Historical Beaufort Foundation. Come early and enjoy the pre-movie entertainment brought to you by Beaufort Performing Arts Center.  So bring those chairs and blankets for a evening of family fun and a free movie.
X-ALT-DESC;FMTTYPE=text/html:Brought to you by Main Street Beaufort and the Beaufort City Hospitality Association.  Concessions will be sold and proceeds to benefit the Historical Beaufort Foundation. Come early and enjoy the pre-movie entertainment brought to you by Beaufort Performing Arts Center.  So bring those chairs and blankets for a evening of family fun and a free movie.
LOCATION:
UID:e.1212.3437
SEQUENCE:3
DTSTAMP:20260425T011134Z
URL:http://business.beaufortchamber.org/events/details/main-street-beaufort-usa-movies-in-the-park-the-great-santini-08-27-2009-3437
END:VEVENT

END:VCALENDAR
