BEGIN:VCALENDAR
VERSION:2.0
PRODID:-//ChamberMaster//Event Calendar 2.0//EN
METHOD:PUBLISH
X-PUBLISHED-TTL:P3D
REFRESH-INTERVAL:P3D
CALSCALE:GREGORIAN
BEGIN:VEVENT
DTSTART;VALUE=DATE:20090803
DTEND;VALUE=DATE:20090804
TRANSP:TRANSPARENT
X-MICROSOFT-CDO-ALLDAYEVENT:TRUE
SUMMARY:Main Street Beaufort\, USA - Resource Night
DESCRIPTION:We will be focusing on general services for your business including paper shredding\, pest control\, window washing\, cleaning companies\, alarm companies and web design.  Please RSVP by Thursday\, July 30th.
X-ALT-DESC;FMTTYPE=text/html:We will be focusing on general services for your business including paper shredding\, pest control\, window washing\, cleaning companies\, alarm companies and web design.  Please RSVP by Thursday\, July 30th.
LOCATION:
UID:e.1212.3366
SEQUENCE:3
DTSTAMP:20260425T010749Z
URL:http://business.beaufortchamber.org/events/details/main-street-beaufort-usa-resource-night-08-03-2009-3366
END:VEVENT

END:VCALENDAR
