BEGIN:VCALENDAR
VERSION:2.0
PRODID:-//ChamberMaster//Event Calendar 2.0//EN
METHOD:PUBLISH
X-PUBLISHED-TTL:P3D
REFRESH-INTERVAL:P3D
CALSCALE:GREGORIAN
BEGIN:VEVENT
DTSTART;VALUE=DATE:20091029
DTEND;VALUE=DATE:20091030
TRANSP:TRANSPARENT
X-MICROSOFT-CDO-ALLDAYEVENT:TRUE
SUMMARY:Main Street Beaufort\, USA - Trick or Treat Night
DESCRIPTION:Kids put on your favorite Halloween costume and bring your treat bags !  Come visit the many stores and businesses in the area for a safe "Trick or Treat " night out on the town - bring your parents too.  Free and open to the public.  Then hang around for a free movie in the park - "Aliens".
X-ALT-DESC;FMTTYPE=text/html:Kids put on your favorite Halloween costume and bring your treat bags !  Come visit the many stores and businesses in the area for a safe "Trick or Treat " night out on the town - bring your parents too.  Free and open to the public.  Then hang around for a free movie in the park - "Aliens".
LOCATION:
UID:e.1212.3290
SEQUENCE:3
DTSTAMP:20260424T221952Z
URL:http://business.beaufortchamber.org/events/details/main-street-beaufort-usa-trick-or-treat-night-10-29-2009-3290
END:VEVENT

END:VCALENDAR
