BEGIN:VCALENDAR
VERSION:2.0
PRODID:-//ChamberMaster//Event Calendar 2.0//EN
METHOD:PUBLISH
X-PUBLISHED-TTL:P3D
REFRESH-INTERVAL:P3D
CALSCALE:GREGORIAN
BEGIN:VEVENT
DTSTART:20120218T143000Z
DTEND:20120218T210000Z
X-MICROSOFT-CDO-ALLDAYEVENT:FALSE
SUMMARY:Manifesting the Vision of Your Life with Dr. Sue Morter
DESCRIPTION:Join Dr. Sue Morter\, internationally recognized authority on bridging science\, spirit\, and human possibility for a full day of personal transformation.  Using the power of quantum mechanics\, meditation and BioEnergetics\, you'll learn how to move subconscious interferences from your personal energy fields to move the flow of your life toward manifesting your most profound goals and visions.  The world responds to YOU\, in your authentic power--it's time to reveal it!
X-ALT-DESC;FMTTYPE=text/html:<span style="font-size: 14px"><span style="font-family: arial">Join Dr. Sue Morter\, internationally recognized authority on bridging science\, spirit\, and human possibility for a full day of personal transformation.&nbsp\; Using the power of quantum mechanics\, meditation and BioEnergetics\, you&#39\;ll learn how to move subconscious interferences from your personal energy fields to move the flow of your life toward manifesting your most profound goals and visions.&nbsp\; The world responds to YOU\, in your authentic power--it&#39\;s time to reveal it!</span></span>
LOCATION:Quality Inn at Town Center
UID:e.1212.4498
SEQUENCE:3
DTSTAMP:20260423T041057Z
URL:http://business.beaufortchamber.org/events/details/manifesting-the-vision-of-your-life-with-dr-sue-morter-02-18-2012-4498
END:VEVENT

END:VCALENDAR
