BEGIN:VCALENDAR
VERSION:2.0
PRODID:-//ChamberMaster//Event Calendar 2.0//EN
METHOD:PUBLISH
X-PUBLISHED-TTL:P3D
REFRESH-INTERVAL:P3D
CALSCALE:GREGORIAN
BEGIN:VEVENT
DTSTART:20120308T223000Z
DTEND:20120309T000000Z
X-MICROSOFT-CDO-ALLDAYEVENT:FALSE
SUMMARY:March Business After Hours
DESCRIPTION:Relationship building is how business is done in Beaufort. Expose your business to a variety of industries and professionals in a high-energy social atmosphere. Business After Hours is a staple of the Chamber members' calendars. This after hours networking event for professionals is held monthly from 5:30 - 7 p.m. at various locations throughout the Beaufort region. Join us this month at Hospice Care of South Carolina!
X-ALT-DESC;FMTTYPE=text/html:<font face="Arial">Relationship building is how business is done in Beaufort. Expose your business to a variety of industries and professionals in a high-energy social atmosphere. Business After Hours is a staple of the Chamber members&#39\; calendars. This after hours networking event for professionals is held monthly from 5:30 - 7 p.m. at various locations throughout the&nbsp\;Beaufort region. Join us this month at Hospice Care of South Carolina!</font>
LOCATION:Hospice Care of South Carolina 705 Carteret Street Beaufort\, SC 29902
UID:e.1212.4502
SEQUENCE:3
DTSTAMP:20260423T011142Z
URL:http://business.beaufortchamber.org/events/details/march-business-after-hours-03-08-2012-4502
END:VEVENT

END:VCALENDAR
