BEGIN:VCALENDAR
VERSION:2.0
PRODID:-//ChamberMaster//Event Calendar 2.0//EN
METHOD:PUBLISH
X-PUBLISHED-TTL:P3D
REFRESH-INTERVAL:P3D
CALSCALE:GREGORIAN
BEGIN:VEVENT
DTSTART;VALUE=DATE:20091024
DTEND;VALUE=DATE:20091025
TRANSP:TRANSPARENT
X-MICROSOFT-CDO-ALLDAYEVENT:TRUE
SUMMARY:Marine Corps - Iron Mike Bike Ride Through History
DESCRIPTION:The 15 mile course will highlight historical locations across the base from prehistory to the modern Marine presence.  At some site docents will be present to discuss the areas' history.  \nRest stops will be available along the route\nCost: Free and open to the public\nThose who join the Parris Island Historical and Museum Society during the event will receive a free Iron Mike Bike Tour t-shirt and a 20% discount on all purchases at the museum's gift shop\nAll riders must wear helmets and follow standard road rules\nMinors must be accompanied by an adult\nTell them at the gate you are here to do Iron Mike Bike Ride\nDrives must present valid driver's license\, car registration and proof of insurance to get on base
X-ALT-DESC;FMTTYPE=text/html:The 15 mile course will highlight historical locations across the base from prehistory to the modern Marine presence.  At some site docents will be present to discuss the areas' history.  \nRest stops will be available along the route\nCost: Free and open to the public\nThose who join the Parris Island Historical and Museum Society during the event will receive a free Iron Mike Bike Tour t-shirt and a 20% discount on all purchases at the museum's gift shop\nAll riders must wear helmets and follow standard road rules\nMinors must be accompanied by an adult\nTell them at the gate you are here to do Iron Mike Bike Ride\nDrives must present valid driver's license\, car registration and proof of insurance to get on base
LOCATION:
UID:e.1212.3638
SEQUENCE:3
DTSTAMP:20260424T221712Z
URL:http://business.beaufortchamber.org/events/details/marine-corps-iron-mike-bike-ride-through-history-10-24-2009-3638
END:VEVENT

END:VCALENDAR
