BEGIN:VCALENDAR
VERSION:2.0
PRODID:-//ChamberMaster//Event Calendar 2.0//EN
METHOD:PUBLISH
X-PUBLISHED-TTL:P3D
REFRESH-INTERVAL:P3D
CALSCALE:GREGORIAN
BEGIN:VEVENT
DTSTART;VALUE=DATE:20090729
DTEND;VALUE=DATE:20090730
TRANSP:TRANSPARENT
X-MICROSOFT-CDO-ALLDAYEVENT:TRUE
SUMMARY:Marketing Plan Presentation - St. Helena
DESCRIPTION:Charles Lehmann\, Executive Director of the VCB\, is presenting the VCB Marketing Plan on July 29\, 2009 at 2:00 p.m. at the Penn Center Shed (located behind the museum).\n\ncome on out and bring fellow St. Helena Business Owners.
X-ALT-DESC;FMTTYPE=text/html:Charles Lehmann\, Executive Director of the VCB\, is presenting the VCB Marketing Plan on July 29\, 2009 at 2:00 p.m. at the Penn Center Shed (located behind the museum).\n\ncome on out and bring fellow St. Helena Business Owners.
LOCATION:Penn Center
UID:e.1212.3495
SEQUENCE:3
DTSTAMP:20260425T024908Z
URL:http://business.beaufortchamber.org/events/details/marketing-plan-presentation-st-helena-07-29-2009-3495
END:VEVENT

END:VCALENDAR
