BEGIN:VCALENDAR
VERSION:2.0
PRODID:-//ChamberMaster//Event Calendar 2.0//EN
METHOD:PUBLISH
X-PUBLISHED-TTL:P3D
REFRESH-INTERVAL:P3D
CALSCALE:GREGORIAN
BEGIN:VEVENT
DTSTART:20120519T230000Z
DTEND:20120520T010000Z
X-MICROSOFT-CDO-ALLDAYEVENT:FALSE
SUMMARY:Marlena Smalls Presents a Benefit Concert for the Boys & Girls Club of Beaufort
DESCRIPTION:Benefit Concert for the Boys & Girls Club of Beaufort\n\n$35/person\n\nSocial Wine Bar Included!\n\nPay at the Door or Call to Reserve your Seat!
X-ALT-DESC;FMTTYPE=text/html:Benefit Concert for the Boys &amp\; Girls Club of Beaufort<br />\n$35/person<br />\nSocial Wine Bar Included!<br />\nPay at the Door or Call to Reserve your Seat!<br />\n<br />\n
LOCATION:1100 Boundary Street
UID:e.1212.4527
SEQUENCE:3
DTSTAMP:20260422T222203Z
URL:http://business.beaufortchamber.org/events/details/marlena-smalls-presents-a-benefit-concert-for-the-boys-girls-club-of-beaufort-05-19-2012-4527
END:VEVENT

END:VCALENDAR
