BEGIN:VCALENDAR
VERSION:2.0
PRODID:-//ChamberMaster//Event Calendar 2.0//EN
METHOD:PUBLISH
X-PUBLISHED-TTL:P3D
REFRESH-INTERVAL:P3D
CALSCALE:GREGORIAN
BEGIN:VEVENT
DTSTART:20130425T230000Z
DTEND:20130426T000000Z
X-MICROSOFT-CDO-ALLDAYEVENT:FALSE
SUMMARY:MARTeaNI - A fundraiser for the Senior Citizens Tea
DESCRIPTION:Thursday\, April 25th beginning at 7 pm\n\n\n\nBreakwater Restaurant\n\n203 Carteret Street\,\n\nHistoric Downtown Beaufort\, SC\n\n\n\nNo Cover Charge\n\nSpecial Martini Menu\n\nRaffles\n\n\n\nA fundraiser for the Senior Citizens Tea - a 44 year tradition hosted by the MCAS Beaufort Officers Spouses Club
X-ALT-DESC;FMTTYPE=text/html:Thursday\, April 25th beginning at 7 pm<br />\n<br />\nBreakwater Restaurant<br />\n203 Carteret Street\,<br />\nHistoric Downtown Beaufort\, SC<br />\n<br />\nNo Cover Charge<br />\nSpecial Martini Menu<br />\nRaffles<br />\n<br />\nA fundraiser for the Senior Citizens Tea - a 44 year tradition hosted by the MCAS Beaufort Officers Spouses Club
LOCATION:Breakwater Restaurant 203 Carteret Street Historic Downtown Beaufort SC
UID:e.1212.4957
SEQUENCE:3
DTSTAMP:20260422T050824Z
URL:http://business.beaufortchamber.org/events/details/marteani-a-fundraiser-for-the-senior-citizens-tea-04-25-2013-4957
END:VEVENT

END:VCALENDAR
