BEGIN:VCALENDAR
VERSION:2.0
PRODID:-//ChamberMaster//Event Calendar 2.0//EN
METHOD:PUBLISH
X-PUBLISHED-TTL:P3D
REFRESH-INTERVAL:P3D
CALSCALE:GREGORIAN
BEGIN:VEVENT
DTSTART;VALUE=DATE:20140120
DTEND;VALUE=DATE:20140121
TRANSP:TRANSPARENT
X-MICROSOFT-CDO-ALLDAYEVENT:TRUE
SUMMARY:Martin Luther King Jr. Holiday
DESCRIPTION:Chamber Offices Closed
X-ALT-DESC;FMTTYPE=text/html:Chamber Offices Closed
LOCATION:
UID:e.1212.5083
SEQUENCE:3
DTSTAMP:20260421T132436Z
URL:http://business.beaufortchamber.org/events/details/martin-luther-king-jr-holiday-01-20-2014-5083
END:VEVENT

END:VCALENDAR
