BEGIN:VCALENDAR
VERSION:2.0
PRODID:-//ChamberMaster//Event Calendar 2.0//EN
METHOD:PUBLISH
X-PUBLISHED-TTL:P3D
REFRESH-INTERVAL:P3D
CALSCALE:GREGORIAN
BEGIN:VEVENT
DTSTART:20130216T003000Z
DTEND:20130216T003000Z
X-MICROSOFT-CDO-ALLDAYEVENT:FALSE
SUMMARY:Mary Green Chorale Concert
DESCRIPTION:The Mary Green Chorale\, under the direction of Mary Woodmansee Green\, will present "We Sing of Love" to benefit NAMI Beaufort County on Friday\, February 15\, at 7:30pm at The Baptist Church of Beaufort\, 600 Charles Street\, Beaufort\, SC. This choral concert will feature the Lomazov/Rackers Piano Duo and soprano Laura Sutton Floyd. Steven Branyon will accompany on the piano\, joined by Russell Floyd on the clarinet and guitar. Outreach into several local schools and retirement communities is planned\, and will feature performances by a reduced ensemble from the Chorale.\n\n\n\nTickets are available at the Beaufort Regional Chamber of Commerce\, or by calling NAMI at 843-681-2200 ext 2#.\n\n\n\nProceeds from the concert will benefit NAMI Beaufort County\, a non-profit organization dedicated to improving the lives of people with mental illness and their families through programs of education\, support\, and advocacy and the promotion of recovery and dignity.
X-ALT-DESC;FMTTYPE=text/html:The Mary Green Chorale\, under the direction of Mary Woodmansee Green\, will present &quot\;We Sing of Love&quot\; to benefit NAMI Beaufort County on Friday\, February 15\, at 7:30pm at The Baptist Church of Beaufort\, 600 Charles Street\, Beaufort\, SC. This choral concert will feature the Lomazov/Rackers Piano Duo and soprano Laura Sutton Floyd. Steven Branyon will accompany on the piano\, joined by Russell Floyd on the clarinet and guitar. Outreach into several local schools and retirement communities is planned\, and will feature performances by a reduced ensemble from the Chorale.<br />\n<br />\nTickets are available at the Beaufort Regional Chamber of Commerce\, or by calling NAMI at 843-681-2200 ext 2#.<br />\n<br />\nProceeds from the concert will benefit NAMI Beaufort County\, a non-profit organization dedicated to improving the lives of people with mental illness and their families through programs of education\, support\, and advocacy and the promotion of recovery and dignity.
LOCATION:The Baptist Church of Beaufort\, 600 Charles Street\, Beaufort
UID:e.1212.4720
SEQUENCE:3
DTSTAMP:20260422T084351Z
URL:http://business.beaufortchamber.org/events/details/mary-green-chorale-concert-02-15-2013-4720
END:VEVENT

END:VCALENDAR
