BEGIN:VCALENDAR
VERSION:2.0
PRODID:-//ChamberMaster//Event Calendar 2.0//EN
METHOD:PUBLISH
X-PUBLISHED-TTL:P3D
REFRESH-INTERVAL:P3D
CALSCALE:GREGORIAN
BEGIN:VEVENT
DTSTART;VALUE=DATE:20090114
DTEND;VALUE=DATE:20090115
TRANSP:TRANSPARENT
X-MICROSOFT-CDO-ALLDAYEVENT:TRUE
SUMMARY:Masterpiece Masquerade
DESCRIPTION:See the works of 80 talented artist presenting "Masterpiece Masquerade".   Artists' fanciful takes on the art of the old masters.  Gallery is open Monday - Saturday.
X-ALT-DESC;FMTTYPE=text/html:See the works of 80 talented artist presenting "Masterpiece Masquerade".   Artists' fanciful takes on the art of the old masters.  Gallery is open Monday - Saturday.
LOCATION:
UID:e.1212.2890
SEQUENCE:3
DTSTAMP:20260425T124130Z
URL:http://business.beaufortchamber.org/events/details/masterpiece-masquerade-01-14-2009-2890
END:VEVENT

END:VCALENDAR
