BEGIN:VCALENDAR
VERSION:2.0
PRODID:-//ChamberMaster//Event Calendar 2.0//EN
METHOD:PUBLISH
X-PUBLISHED-TTL:P3D
REFRESH-INTERVAL:P3D
CALSCALE:GREGORIAN
BEGIN:VEVENT
DTSTART;VALUE=DATE:20110617
DTEND;VALUE=DATE:20110618
TRANSP:TRANSPARENT
X-MICROSOFT-CDO-ALLDAYEVENT:TRUE
SUMMARY:MCAS Federal Credit Union - Annual Civitas Dinner
DESCRIPTION:June 23\, 2011 per Blakely\n\nDate change 2/7/2011 per Blakely
X-ALT-DESC;FMTTYPE=text/html:June 23\, 2011 per Blakely\n\nDate change 2/7/2011 per Blakely
LOCATION:
UID:e.1212.3894
SEQUENCE:3
DTSTAMP:20260423T151526Z
URL:http://business.beaufortchamber.org/events/details/mcas-federal-credit-union-annual-civitas-dinner-06-17-2011-3894
END:VEVENT

END:VCALENDAR
